BEGIN:VCALENDAR
VERSION:2.0
PRODID:-//Förderverein Braunsdorf e.V. - ECPv6.15.20//NONSGML v1.0//EN
CALSCALE:GREGORIAN
METHOD:PUBLISH
X-ORIGINAL-URL:https://foerderverein-braunsdorf.de
X-WR-CALDESC:Veranstaltungen für Förderverein Braunsdorf e.V.
REFRESH-INTERVAL;VALUE=DURATION:PT1H
X-Robots-Tag:noindex
X-PUBLISHED-TTL:PT1H
BEGIN:VTIMEZONE
TZID:Europe/Berlin
BEGIN:DAYLIGHT
TZOFFSETFROM:+0100
TZOFFSETTO:+0200
TZNAME:CEST
DTSTART:20250330T010000
END:DAYLIGHT
BEGIN:STANDARD
TZOFFSETFROM:+0200
TZOFFSETTO:+0100
TZNAME:CET
DTSTART:20251026T010000
END:STANDARD
BEGIN:DAYLIGHT
TZOFFSETFROM:+0100
TZOFFSETTO:+0200
TZNAME:CEST
DTSTART:20260329T010000
END:DAYLIGHT
BEGIN:STANDARD
TZOFFSETFROM:+0200
TZOFFSETTO:+0100
TZNAME:CET
DTSTART:20261025T010000
END:STANDARD
BEGIN:DAYLIGHT
TZOFFSETFROM:+0100
TZOFFSETTO:+0200
TZNAME:CEST
DTSTART:20270328T010000
END:DAYLIGHT
BEGIN:STANDARD
TZOFFSETFROM:+0200
TZOFFSETTO:+0100
TZNAME:CET
DTSTART:20271031T010000
END:STANDARD
END:VTIMEZONE
BEGIN:VEVENT
DTSTART;TZID=Europe/Berlin:20260404T170000
DTEND;TZID=Europe/Berlin:20260404T230000
DTSTAMP:20260421T173221
CREATED:20250125T171840Z
LAST-MODIFIED:20251230T110048Z
UID:464-1775322000-1775343600@foerderverein-braunsdorf.de
SUMMARY:Osterfeuer
DESCRIPTION:Die Kameraden der Freiwilligen Feuerwehr Braunsdorf laden zum alljährlichen Osterfeuer mit Getränken\, lecker Gregrilltem\, Pommes und dem BraunsBurger ein.  \nEs gibt auch eine Überraschung für die Kinder. 
URL:https://foerderverein-braunsdorf.de/event/osterfeuer-2
LOCATION:Festplatz am Dorfgemeinschaftshaus\, Am Teich 8\, 06889 Braunsdorf
END:VEVENT
END:VCALENDAR