BEGIN:VCALENDAR
VERSION:2.0
PRODID:-//Förderverein Braunsdorf e.V. - ECPv6.15.20//NONSGML v1.0//EN
CALSCALE:GREGORIAN
METHOD:PUBLISH
X-WR-CALNAME:Förderverein Braunsdorf e.V.
X-ORIGINAL-URL:https://foerderverein-braunsdorf.de
X-WR-CALDESC:Veranstaltungen für Förderverein Braunsdorf e.V.
REFRESH-INTERVAL;VALUE=DURATION:PT1H
X-Robots-Tag:noindex
X-PUBLISHED-TTL:PT1H
BEGIN:VTIMEZONE
TZID:Europe/Berlin
BEGIN:DAYLIGHT
TZOFFSETFROM:+0100
TZOFFSETTO:+0200
TZNAME:CEST
DTSTART:20250330T010000
END:DAYLIGHT
BEGIN:STANDARD
TZOFFSETFROM:+0200
TZOFFSETTO:+0100
TZNAME:CET
DTSTART:20251026T010000
END:STANDARD
BEGIN:DAYLIGHT
TZOFFSETFROM:+0100
TZOFFSETTO:+0200
TZNAME:CEST
DTSTART:20260329T010000
END:DAYLIGHT
BEGIN:STANDARD
TZOFFSETFROM:+0200
TZOFFSETTO:+0100
TZNAME:CET
DTSTART:20261025T010000
END:STANDARD
BEGIN:DAYLIGHT
TZOFFSETFROM:+0100
TZOFFSETTO:+0200
TZNAME:CEST
DTSTART:20270328T010000
END:DAYLIGHT
BEGIN:STANDARD
TZOFFSETFROM:+0200
TZOFFSETTO:+0100
TZNAME:CET
DTSTART:20271031T010000
END:STANDARD
END:VTIMEZONE
BEGIN:VEVENT
DTSTART;TZID=Europe/Berlin:20260213T190000
DTEND;TZID=Europe/Berlin:20260213T210000
DTSTAMP:20260421T202653
CREATED:20250125T173221Z
LAST-MODIFIED:20251230T105401Z
UID:473-1771009200-1771016400@foerderverein-braunsdorf.de
SUMMARY:Jahreshauptversammlung Förderverein
DESCRIPTION:Wir laden die Mitglieder des Fördervereins zur Jahreshauptversammlung ein.
URL:https://foerderverein-braunsdorf.de/event/jahreshauptversammlung
LOCATION:Dorfgemeinschaftshaus\, Am Teich\, Braunsdorf\, 06889\, Deutschland
ORGANIZER;CN="F%C3%B6rderverein Braunsdorf":MAILTO:info@foerderverein-braunsdorf.de
END:VEVENT
END:VCALENDAR