BEGIN:VCALENDAR
VERSION:2.0
PRODID:-//Förderverein Braunsdorf e.V. - ECPv6.15.20//NONSGML v1.0//EN
CALSCALE:GREGORIAN
METHOD:PUBLISH
X-ORIGINAL-URL:https://foerderverein-braunsdorf.de
X-WR-CALDESC:Veranstaltungen für Förderverein Braunsdorf e.V.
REFRESH-INTERVAL;VALUE=DURATION:PT1H
X-Robots-Tag:noindex
X-PUBLISHED-TTL:PT1H
BEGIN:VTIMEZONE
TZID:Europe/Berlin
BEGIN:DAYLIGHT
TZOFFSETFROM:+0100
TZOFFSETTO:+0200
TZNAME:CEST
DTSTART:20250330T010000
END:DAYLIGHT
BEGIN:STANDARD
TZOFFSETFROM:+0200
TZOFFSETTO:+0100
TZNAME:CET
DTSTART:20251026T010000
END:STANDARD
BEGIN:DAYLIGHT
TZOFFSETFROM:+0100
TZOFFSETTO:+0200
TZNAME:CEST
DTSTART:20260329T010000
END:DAYLIGHT
BEGIN:STANDARD
TZOFFSETFROM:+0200
TZOFFSETTO:+0100
TZNAME:CET
DTSTART:20261025T010000
END:STANDARD
BEGIN:DAYLIGHT
TZOFFSETFROM:+0100
TZOFFSETTO:+0200
TZNAME:CEST
DTSTART:20270328T010000
END:DAYLIGHT
BEGIN:STANDARD
TZOFFSETFROM:+0200
TZOFFSETTO:+0100
TZNAME:CET
DTSTART:20271031T010000
END:STANDARD
END:VTIMEZONE
BEGIN:VEVENT
DTSTART;TZID=Europe/Berlin:20260117T170000
DTEND;TZID=Europe/Berlin:20260117T220000
DTSTAMP:20260421T220031
CREATED:20250125T164902Z
LAST-MODIFIED:20250916T082705Z
UID:450-1768669200-1768687200@foerderverein-braunsdorf.de
SUMMARY:Weihnachtsbaum verbrennen
DESCRIPTION:Die Kameraden der Freiwilligen Feuerwehr Braunsdorf laden recht herzlich zum Weihnachtsbaum verbrennen mit Glühwein\, Kinderpunsch und lecker Gegrilltem ein.
URL:https://foerderverein-braunsdorf.de/event/weihnachtsbaum-verbrennen
LOCATION:Festplatz am Dorfgemeinschaftshaus\, Am Teich 8\, 06889 Braunsdorf
END:VEVENT
END:VCALENDAR