BEGIN:VCALENDAR
VERSION:2.0
PRODID:-//Förderverein Braunsdorf e.V. - ECPv6.15.20//NONSGML v1.0//EN
CALSCALE:GREGORIAN
METHOD:PUBLISH
X-ORIGINAL-URL:https://foerderverein-braunsdorf.de
X-WR-CALDESC:Veranstaltungen für Förderverein Braunsdorf e.V.
REFRESH-INTERVAL;VALUE=DURATION:PT1H
X-Robots-Tag:noindex
X-PUBLISHED-TTL:PT1H
BEGIN:VTIMEZONE
TZID:Europe/Berlin
BEGIN:DAYLIGHT
TZOFFSETFROM:+0100
TZOFFSETTO:+0200
TZNAME:CEST
DTSTART:20240331T010000
END:DAYLIGHT
BEGIN:STANDARD
TZOFFSETFROM:+0200
TZOFFSETTO:+0100
TZNAME:CET
DTSTART:20241027T010000
END:STANDARD
BEGIN:DAYLIGHT
TZOFFSETFROM:+0100
TZOFFSETTO:+0200
TZNAME:CEST
DTSTART:20250330T010000
END:DAYLIGHT
BEGIN:STANDARD
TZOFFSETFROM:+0200
TZOFFSETTO:+0100
TZNAME:CET
DTSTART:20251026T010000
END:STANDARD
BEGIN:DAYLIGHT
TZOFFSETFROM:+0100
TZOFFSETTO:+0200
TZNAME:CEST
DTSTART:20260329T010000
END:DAYLIGHT
BEGIN:STANDARD
TZOFFSETFROM:+0200
TZOFFSETTO:+0100
TZNAME:CET
DTSTART:20261025T010000
END:STANDARD
END:VTIMEZONE
BEGIN:VEVENT
DTSTART;TZID=Europe/Berlin:20250629T100100
DTEND;TZID=Europe/Berlin:20250629T110000
DTSTAMP:20260423T212233
CREATED:20250612T121545Z
LAST-MODIFIED:20250612T121640Z
UID:733-1751191260-1751194800@foerderverein-braunsdorf.de
SUMMARY:Traktorgottesdienst
DESCRIPTION:
URL:https://foerderverein-braunsdorf.de/event/traktorgottesdienst
LOCATION:Kirche Braunsdorf\, Am Teich\, Braunsdorf\, 06889\, Deutschland
END:VEVENT
END:VCALENDAR