BEGIN:VCALENDAR
VERSION:2.0
PRODID:-//Förderverein Braunsdorf e.V. - ECPv6.15.20//NONSGML v1.0//EN
CALSCALE:GREGORIAN
METHOD:PUBLISH
X-WR-CALNAME:Förderverein Braunsdorf e.V.
X-ORIGINAL-URL:https://foerderverein-braunsdorf.de
X-WR-CALDESC:Veranstaltungen für Förderverein Braunsdorf e.V.
REFRESH-INTERVAL;VALUE=DURATION:PT1H
X-Robots-Tag:noindex
X-PUBLISHED-TTL:PT1H
BEGIN:VTIMEZONE
TZID:Europe/Berlin
BEGIN:DAYLIGHT
TZOFFSETFROM:+0100
TZOFFSETTO:+0200
TZNAME:CEST
DTSTART:20240331T010000
END:DAYLIGHT
BEGIN:STANDARD
TZOFFSETFROM:+0200
TZOFFSETTO:+0100
TZNAME:CET
DTSTART:20241027T010000
END:STANDARD
BEGIN:DAYLIGHT
TZOFFSETFROM:+0100
TZOFFSETTO:+0200
TZNAME:CEST
DTSTART:20250330T010000
END:DAYLIGHT
BEGIN:STANDARD
TZOFFSETFROM:+0200
TZOFFSETTO:+0100
TZNAME:CET
DTSTART:20251026T010000
END:STANDARD
BEGIN:DAYLIGHT
TZOFFSETFROM:+0100
TZOFFSETTO:+0200
TZNAME:CEST
DTSTART:20260329T010000
END:DAYLIGHT
BEGIN:STANDARD
TZOFFSETFROM:+0200
TZOFFSETTO:+0100
TZNAME:CET
DTSTART:20261025T010000
END:STANDARD
END:VTIMEZONE
BEGIN:VEVENT
DTSTART;TZID=Europe/Berlin:20250510T133000
DTEND;TZID=Europe/Berlin:20250510T153000
DTSTAMP:20260425T133909
CREATED:20250125T174412Z
LAST-MODIFIED:20250409T142212Z
UID:477-1746883800-1746891000@foerderverein-braunsdorf.de
SUMMARY:Kräuterwanderung
DESCRIPTION:In diesem Jahr freuen wir uns ganz besonders\, Frau Sabine Priezel bei uns begrüßen zu dürfen.  \nAuf unserer gemeinsamen Kräuterwanderung rund um Braunsdorf wird sie uns mit viel Wissen und Begeisterung die heimischen Kräuter vorstellen und ihre vielfältigen Verwendungsmöglichkeiten erklären.  \nIm Anschluss laden wir herzlich zu einem kleinen Imbiss und einer Tasse Kaffee im Dorfgemeinschaftshaus ein. \n Die Teilnehmerzahl ist begrenzt\, deshalb  bitten wir um Anmeldung unter 03491613355. Bitte in festem Schuhwerk kommen. \nFür die fachkundige Führung entsteht ein Unkostenbeitrag in Höhe von 10 €  https://www.kraeuter-querbeet.de/ \n \n 
URL:https://foerderverein-braunsdorf.de/event/kraeuterwanderung
LOCATION:Dorfgemeinschaftshaus\, Am Teich\, Braunsdorf\, 06889\, Deutschland
ORGANIZER;CN="F%C3%B6rderverein Braunsdorf":MAILTO:info@foerderverein-braunsdorf.de
END:VEVENT
END:VCALENDAR